BEGIN:VCALENDAR
VERSION:2.0
PRODID:-//wp-events-plugin.com//7.2.3.1//EN
TZID:Europe/Berlin
X-WR-TIMEZONE:Europe/Berlin
BEGIN:VEVENT
UID:475@idg-hamburg.de
DTSTART;TZID=Europe/Berlin:20260708T190000
DTEND;TZID=Europe/Berlin:20260708T200000
DTSTAMP:20260227T194916Z
URL:https://idg-hamburg.de/veranstaltungen/bille-bronze-kurs-4-2026-03-25-
 2026-04-01-2026-04-08-2026-04-15-2026-04-22-2026-04-29-2026-05-06-2026-05-
 13-2026-05-20-2026-05-27-2026-06-03-2026-06-10-2026-06-17-2026-06-24-2026-
 07-01-2026-07-08/
SUMMARY:Bille - Bronze-Kurs
DESCRIPTION:Bille - Bronze-Kurs
ATTACH;FMTTYPE=image/jpeg:https://idg-hamburg.de/wp-content/uploads/2024/0
 2/Trainingsplatz_Bille_757x409.jpg
CATEGORIES:Bille,IDG,IRJGV,LAZ
LOCATION:Öffentlicher Pausenhof der Gewerbeschule GS07\, Billwerder Billde
 ich 620\, Hamburg\, Hamburg\, 21033\, Deutschland
X-APPLE-STRUCTURED-LOCATION;VALUE=URI;X-ADDRESS=Billwerder Billdeich 620\, 
 Hamburg\, Hamburg\, 21033\, Deutschland;X-APPLE-RADIUS=100;X-TITLE=Öffent
 licher Pausenhof der Gewerbeschule GS07:geo:0,0
END:VEVENT
BEGIN:VTIMEZONE
TZID:Europe/Berlin
X-LIC-LOCATION:Europe/Berlin
BEGIN:DAYLIGHT
DTSTART:20260329T030000
TZOFFSETFROM:+0100
TZOFFSETTO:+0200
TZNAME:CEST
END:DAYLIGHT
END:VTIMEZONE
END:VCALENDAR